BEGIN:VCALENDAR
VERSION:2.0
PRODID:-//KTWB - ECPv6.15.18//NONSGML v1.0//EN
CALSCALE:GREGORIAN
METHOD:PUBLISH
X-WR-CALNAME:KTWB
X-ORIGINAL-URL:https://ktwb.de
X-WR-CALDESC:Veranstaltungen für KTWB
REFRESH-INTERVAL;VALUE=DURATION:PT1H
X-Robots-Tag:noindex
X-PUBLISHED-TTL:PT1H
BEGIN:VTIMEZONE
TZID:Europe/Berlin
BEGIN:DAYLIGHT
TZOFFSETFROM:+0100
TZOFFSETTO:+0200
TZNAME:CEST
DTSTART:20250330T010000
END:DAYLIGHT
BEGIN:STANDARD
TZOFFSETFROM:+0200
TZOFFSETTO:+0100
TZNAME:CET
DTSTART:20251026T010000
END:STANDARD
BEGIN:DAYLIGHT
TZOFFSETFROM:+0100
TZOFFSETTO:+0200
TZNAME:CEST
DTSTART:20260329T010000
END:DAYLIGHT
BEGIN:STANDARD
TZOFFSETFROM:+0200
TZOFFSETTO:+0100
TZNAME:CET
DTSTART:20261025T010000
END:STANDARD
BEGIN:DAYLIGHT
TZOFFSETFROM:+0100
TZOFFSETTO:+0200
TZNAME:CEST
DTSTART:20270328T010000
END:DAYLIGHT
BEGIN:STANDARD
TZOFFSETFROM:+0200
TZOFFSETTO:+0100
TZNAME:CET
DTSTART:20271031T010000
END:STANDARD
END:VTIMEZONE
BEGIN:VEVENT
DTSTART;VALUE=DATE:20260509
DTEND;VALUE=DATE:20260511
DTSTAMP:20260424T140645
CREATED:20250514T044132Z
LAST-MODIFIED:20260118T174851Z
UID:3646-1778284800-1778457599@ktwb.de
SUMMARY:Rennen Bopfingen
DESCRIPTION:A rare hands-on experience that breaks down the F1 steering wheel. Learn how drivers manage over 20 functions mid-race while traveling at 200mph. Interactive stations let you try your reflexes and strategy handling like the pros.
URL:https://ktwb.de/event/rennen-bopfingen/
ORGANIZER;CN="Slipstream":MAILTO:example@organizer.com
END:VEVENT
BEGIN:VEVENT
DTSTART;VALUE=DATE:20260627
DTEND;VALUE=DATE:20260628
DTSTAMP:20260424T140645
CREATED:20250513T065910Z
LAST-MODIFIED:20260118T175024Z
UID:3639-1782518400-1782604799@ktwb.de
SUMMARY:Rennen Rotthalmünster
DESCRIPTION:Feel the adrenaline of race day with a full simulation of the final lap of a grand prix. This event brings fans closer to the finish line\, covering how strategies shift\, decisions are made\, and the final moments that define champions.
URL:https://ktwb.de/event/rennen-rotthalmuenster/
LOCATION:Rennen Mülsen\, Niedermülsener Hauptstraße 14b\,\, Mülsen\, Sachsen\, 08132\, Germany
ORGANIZER;CN="Slipstream":MAILTO:example@organizer.com
END:VEVENT
BEGIN:VEVENT
DTSTART;VALUE=DATE:20260807
DTEND;VALUE=DATE:20260809
DTSTAMP:20260424T140645
CREATED:20250512T034838Z
LAST-MODIFIED:20260118T175158Z
UID:3598-1786060800-1786233599@ktwb.de
SUMMARY:Rennen Wackersdorf Nacht
DESCRIPTION:Discover the cutting-edge technology behind the fastest machines on Earth. From aerodynamics to hybrid engines and telemetry\, this event showcases the innovation that powers today’s racing cars. Featuring panels with race engineers and real F1 car displays.
URL:https://ktwb.de/event/rennen-wackersdorf-nacht/
ORGANIZER;CN="Slipstream":MAILTO:example@organizer.com
END:VEVENT
END:VCALENDAR